BEGIN:VCALENDAR
VERSION:2.0
PRODID:-//Mathieu Schlachet - ECPv4.9.3.1//NONSGML v1.0//EN
CALSCALE:GREGORIAN
METHOD:PUBLISH
X-WR-CALNAME:Mathieu Schlachet
X-ORIGINAL-URL:https://schlachet.fr
X-WR-CALDESC:Évènements pour Mathieu Schlachet
BEGIN:VEVENT
DTSTART;TZID=Europe/Paris:20190613T080000
DTEND;TZID=Europe/Paris:20190613T170000
DTSTAMP:20260421T091715
CREATED:20190613T204130Z
LAST-MODIFIED:20190613T204849Z
UID:194-1560412800-1560445200@schlachet.fr
SUMMARY:Test
DESCRIPTION:test \n
URL:https://schlachet.fr/evenement/test/
LOCATION:Narbonne\, 11100\, Narbonne\, France
CATEGORIES:Conférences
ATTACH;FMTTYPE=image/jpeg:https://schlachet.fr/wp-content/uploads/2019/06/107_DSC5887107.jpg
END:VEVENT
END:VCALENDAR